BEGIN:VCALENDAR
VERSION:2.0
PRODID:-//European Institute of Taxidermy Training - ECPv6.8.1//NONSGML v1.0//EN
CALSCALE:GREGORIAN
METHOD:PUBLISH
X-WR-CALNAME:European Institute of Taxidermy Training
X-ORIGINAL-URL:https://eitt.nl
X-WR-CALDESC:Evenementen voor European Institute of Taxidermy Training
REFRESH-INTERVAL;VALUE=DURATION:PT1H
X-Robots-Tag:noindex
X-PUBLISHED-TTL:PT1H
BEGIN:VTIMEZONE
TZID:Europe/Amsterdam
BEGIN:DAYLIGHT
TZOFFSETFROM:+0100
TZOFFSETTO:+0200
TZNAME:CEST
DTSTART:20240331T010000
END:DAYLIGHT
BEGIN:STANDARD
TZOFFSETFROM:+0200
TZOFFSETTO:+0100
TZNAME:CET
DTSTART:20241027T010000
END:STANDARD
END:VTIMEZONE
BEGIN:VEVENT
DTSTART;VALUE=DATE:20240405
DTEND;VALUE=DATE:20240407
DTSTAMP:20260423T232047
CREATED:20240314T211759Z
LAST-MODIFIED:20240321T203642Z
UID:179-1712275200-1712447999@eitt.nl
SUMMARY:Workshop crow April
DESCRIPTION:2-day workshop crow. \nApply by sending an email to info@eitt.nl
URL:https://eitt.nl/event/workshop-crow/
LOCATION:European Institute of Taxidermy Training\, Hengelderweg 6 D\, Didam\, Nederland
CATEGORIES:Workshops
ATTACH;FMTTYPE=image/png:https://eitt.nl/wp-content/uploads/2024/03/Ontwerp-zonder-titel-11.png
END:VEVENT
END:VCALENDAR