BEGIN:VCALENDAR
VERSION:2.0
PRODID:-//European Institute of Taxidermy Training - ECPv6.8.1//NONSGML v1.0//EN
CALSCALE:GREGORIAN
METHOD:PUBLISH
X-ORIGINAL-URL:https://eitt.nl
X-WR-CALDESC:Evenementen voor European Institute of Taxidermy Training
REFRESH-INTERVAL;VALUE=DURATION:PT1H
X-Robots-Tag:noindex
X-PUBLISHED-TTL:PT1H
BEGIN:VTIMEZONE
TZID:UTC
BEGIN:STANDARD
TZOFFSETFROM:+0000
TZOFFSETTO:+0000
TZNAME:UTC
DTSTART:20240101T000000
END:STANDARD
END:VTIMEZONE
BEGIN:VEVENT
DTSTART;VALUE=DATE:20240518
DTEND;VALUE=DATE:20240519
DTSTAMP:20260423T220056
CREATED:20240314T214739Z
LAST-MODIFIED:20240315T214939Z
UID:199-1715990400-1716076799@eitt.nl
SUMMARY:Workshop fox schoulder mount May finishing
DESCRIPTION:This day we finish our fox trophy from the course in May.
URL:https://eitt.nl/event/workshop-fox-trophy-finishing/
CATEGORIES:Workshops
ATTACH;FMTTYPE=image/jpeg:https://eitt.nl/wp-content/uploads/2024/03/Ontwerp-zonder-titel-4.jpg
END:VEVENT
BEGIN:VEVENT
DTSTART;VALUE=DATE:20240525
DTEND;VALUE=DATE:20240526
DTSTAMP:20260423T220056
CREATED:20240314T214553Z
LAST-MODIFIED:20240315T203706Z
UID:197-1716595200-1716681599@eitt.nl
SUMMARY:Workshop life size fox May finishing
DESCRIPTION:This day we finish our life size fox from the course in May.
URL:https://eitt.nl/event/workshop-life-size-fox-finishing/
LOCATION:European Institute of Taxidermy Training\, Hengelderweg 6 D\, Didam\, Nederland
CATEGORIES:Workshops
ATTACH;FMTTYPE=image/png:https://eitt.nl/wp-content/uploads/2024/02/Ontwerp-zonder-titel-9.png
END:VEVENT
BEGIN:VEVENT
DTSTART;VALUE=DATE:20240527
DTEND;VALUE=DATE:20240530
DTSTAMP:20260423T220056
CREATED:20240314T214936Z
LAST-MODIFIED:20240314T214936Z
UID:201-1716768000-1717027199@eitt.nl
SUMMARY:Workshop alpen marmot May
DESCRIPTION:3-day workshop alpen marmot. \nApply by sending an email to info@eitt.nl.
URL:https://eitt.nl/event/workshop-alpen-marmot-may/
LOCATION:European Institute of Taxidermy Training\, Hengelderweg 6 D\, Didam\, Nederland
CATEGORIES:Workshops
ATTACH;FMTTYPE=image/jpeg:https://eitt.nl/wp-content/uploads/2024/02/Ontwerp-zonder-titel-3.jpg
END:VEVENT
END:VCALENDAR